BEGIN:VCALENDAR
VERSION:2.0
PRODID:-//wp-events-plugin.com//7.2.3.1//EN
BEGIN:VEVENT
UID:91@dsac.co.uk
DTSTART;VALUE=DATE:20260514
DTEND;VALUE=DATE:20260518
DTSTAMP:20251229T213051Z
URL:https://www.dsac.co.uk/events/ocean-diver-weekend/
SUMMARY:Ocean diver weekend
DESCRIPTION:Not just a weekend to get the ocean divers through their open w
 ater course but also a chance for all members to get together and enjoy a 
 weekend of diving. Planning on taking the club boat and also some social e
 vents over the weekend. \nPriority to instructors and ocean diver trainee
 s but all welcome 
CATEGORIES:Dive
LOCATION:traylee bay holidays\, Benderloch\, Oban\, Argyll\, PA37 1QR\, Sco
 tland
X-APPLE-STRUCTURED-LOCATION;VALUE=URI;X-ADDRESS=Benderloch\, Oban\, Argyll\
 , PA37 1QR\, Scotland;X-APPLE-RADIUS=100;X-TITLE=traylee bay holidays:geo:
 0,0
END:VEVENT
END:VCALENDAR