BEGIN:VCALENDAR
VERSION:2.0
PRODID:-//wp-events-plugin.com//7.2.3.1//EN
BEGIN:VEVENT
UID:111@dsac.co.uk
DTSTART:20260425T070000Z
DTEND:20260425T220000Z
DTSTAMP:20260422T084120Z
URL:https://www.dsac.co.uk/events/fife-ness-4/
SUMMARY:Fife Ness
DESCRIPTION:Weather is looking good at the moment for fife ness.  This may
  change.  \n\n\nnice close site\, chance to get back in the water for a w
 ee splash about.  \n\n\ntide is early at 9.30 so need to be onsite sharp
 .
CATEGORIES:Dive
LOCATION:Fife Ness\, Fife Ness\, Nr Crail\, Scotland
X-APPLE-STRUCTURED-LOCATION;VALUE=URI;X-ADDRESS=Fife Ness\, Nr Crail\, Scot
 land;X-APPLE-RADIUS=100;X-TITLE=Fife Ness:geo:0,0
END:VEVENT
END:VCALENDAR