BEGIN:VCALENDAR
VERSION:2.0
PRODID:-//wp-events-plugin.com//7.2.3.1//EN
BEGIN:VEVENT
UID:109@dsac.co.uk
DTSTART:20260512T183000Z
DTEND:20260512T193000Z
DTSTAMP:20260420T185203Z
URL:https://www.dsac.co.uk/events/committee-meeting-may/
SUMMARY:Committee Meeting May
DESCRIPTION:Monthly Committeee Meeting\n&nbsp\;\nAncrum Outdoor Centre\n18:
 30\n&nbsp\;\nAny items you would like added to the agenda please let me kn
 ow.\n&nbsp\;\nAny committee members unable to make it please let me know a
 long with an officers report.
END:VEVENT
END:VCALENDAR