BEGIN:VCALENDAR
VERSION:2.0
PRODID:-//wp-events-plugin.com//7.2.3.1//EN
BEGIN:VEVENT
UID:110@dsac.co.uk
DTSTART:20260519T180000Z
DTEND:20260519T193000Z
DTSTAMP:20260420T190412Z
URL:https://www.dsac.co.uk/events/agm/
SUMMARY:AGM
DESCRIPTION:Annual General Meeting\n&nbsp\;\nAgenda for this meeting and mi
 nutes to follow.\nAll Committee Positions will be available to run for\, d
 escriptions and responiblites will follow with the agenda\n&nbsp\;\nCan al
 l memebers please try to attend\n&nbsp\;\nLocation Ancrum Outdoor Centre\n
 Please arrive before 18:30 for a prompt start\n&nbsp\;\nAny points people 
 would like brought up please email myself to have them added\nThanks\nCait
 lin
END:VEVENT
END:VCALENDAR